BEGIN:VCALENDAR
VERSION:2.0
PRODID:-//Allegheny Chapter - ECPv6.15.20//NONSGML v1.0//EN
CALSCALE:GREGORIAN
METHOD:PUBLISH
X-ORIGINAL-URL:https://alleghenybmwcca.org
X-WR-CALDESC:Events for Allegheny Chapter
REFRESH-INTERVAL;VALUE=DURATION:PT1H
X-Robots-Tag:noindex
X-PUBLISHED-TTL:PT1H
BEGIN:VTIMEZONE
TZID:America/New_York
BEGIN:DAYLIGHT
TZOFFSETFROM:-0500
TZOFFSETTO:-0400
TZNAME:EDT
DTSTART:20250309T070000
END:DAYLIGHT
BEGIN:STANDARD
TZOFFSETFROM:-0400
TZOFFSETTO:-0500
TZNAME:EST
DTSTART:20251102T060000
END:STANDARD
BEGIN:DAYLIGHT
TZOFFSETFROM:-0500
TZOFFSETTO:-0400
TZNAME:EDT
DTSTART:20260308T070000
END:DAYLIGHT
BEGIN:STANDARD
TZOFFSETFROM:-0400
TZOFFSETTO:-0500
TZNAME:EST
DTSTART:20261101T060000
END:STANDARD
BEGIN:DAYLIGHT
TZOFFSETFROM:-0500
TZOFFSETTO:-0400
TZNAME:EDT
DTSTART:20270314T070000
END:DAYLIGHT
BEGIN:STANDARD
TZOFFSETFROM:-0400
TZOFFSETTO:-0500
TZNAME:EST
DTSTART:20271107T060000
END:STANDARD
END:VTIMEZONE
BEGIN:VEVENT
DTSTART;TZID=America/New_York:20260411T090000
DTEND;TZID=America/New_York:20260411T103000
DTSTAMP:20260424T170202
CREATED:20260225T194455Z
LAST-MODIFIED:20260309T222906Z
UID:8025-1775898000-1775903400@alleghenybmwcca.org
SUMMARY:Cars & Coffee @ Sewickley BMW
DESCRIPTION:BMW of Sewickley is under new ownership and management!\nPlease mark your calendars to join your fellow Allegheny Chapter BMWCCA members on Saturday morning\, April 11\, 2026 at BMW of Sewickley\, located at the corner of Broad and Kramer Streets in Sewickley\, close to the Sewickley Bridge. \nThis “Coffee and Cars” meeting start at 9:00 AM and wrap up no later than 10:30 AM.  It will be a great opportunity to visit with chapter members and get an update on this BMW dealership following its recent change of ownership.  We expect that both the new owner and General Manager will make some comments on the changes now underway.  We expect a light breakfast will be provided. \nPlease register here so we can get a headcount: \nhttps://www.motorsportreg.com/events/cars-coffee-at-sewickley-bmw-refer-to-website-for-detail-cca-allegheny-138476
URL:https://alleghenybmwcca.org/event/cars-coffee-sewickley-bmw/
LOCATION:BMW of Sewickley\, 119 Kramer St\, Sewickley\, PA\, 15143
CATEGORIES:Social Gathering
ATTACH;FMTTYPE=image/jpeg:https://alleghenybmwcca.org/wp-content/uploads/2026/03/IMG_8590-scaled.jpeg
END:VEVENT
END:VCALENDAR