BEGIN:VCALENDAR
VERSION:2.0
PRODID:-//Allegheny Chapter - ECPv6.15.20//NONSGML v1.0//EN
CALSCALE:GREGORIAN
METHOD:PUBLISH
X-ORIGINAL-URL:https://alleghenybmwcca.org
X-WR-CALDESC:Events for Allegheny Chapter
REFRESH-INTERVAL;VALUE=DURATION:PT1H
X-Robots-Tag:noindex
X-PUBLISHED-TTL:PT1H
BEGIN:VTIMEZONE
TZID:America/New_York
BEGIN:DAYLIGHT
TZOFFSETFROM:-0500
TZOFFSETTO:-0400
TZNAME:EDT
DTSTART:20250309T070000
END:DAYLIGHT
BEGIN:STANDARD
TZOFFSETFROM:-0400
TZOFFSETTO:-0500
TZNAME:EST
DTSTART:20251102T060000
END:STANDARD
BEGIN:DAYLIGHT
TZOFFSETFROM:-0500
TZOFFSETTO:-0400
TZNAME:EDT
DTSTART:20260308T070000
END:DAYLIGHT
BEGIN:STANDARD
TZOFFSETFROM:-0400
TZOFFSETTO:-0500
TZNAME:EST
DTSTART:20261101T060000
END:STANDARD
BEGIN:DAYLIGHT
TZOFFSETFROM:-0500
TZOFFSETTO:-0400
TZNAME:EDT
DTSTART:20270314T070000
END:DAYLIGHT
BEGIN:STANDARD
TZOFFSETFROM:-0400
TZOFFSETTO:-0500
TZNAME:EST
DTSTART:20271107T060000
END:STANDARD
END:VTIMEZONE
BEGIN:VEVENT
DTSTART;VALUE=DATE:20260717
DTEND;VALUE=DATE:20260720
DTSTAMP:20260424T200114
CREATED:20260423T152328Z
LAST-MODIFIED:20260423T152449Z
UID:8060-1784246400-1784505599@alleghenybmwcca.org
SUMMARY:2026 Pittsburgh Vintage Grand Prix Weekend
DESCRIPTION:Friday\, July 17th: Scenic drive to Foxburg\, PA\, and Brady’s Bend \nFriday\, July 17th: BMW CCA Opening Reception: details & location TBD \nSaturday-Sunday\, July 18th-19th: PVGP Race Weekend at Schenley Park \nPlease see the official PVGP website for more information and to register: https://pvgp.org/car-show-overview/bmw/
URL:https://alleghenybmwcca.org/event/2026-pittsburgh-vintage-grand-prix-weekend/
LOCATION:Schenley Park\, Schenley Park\, Pittsburgh\, PA\, 15217\, United States
CATEGORIES:Social Gathering,Touring Events
END:VEVENT
END:VCALENDAR