BEGIN:VCALENDAR
VERSION:2.0
PRODID:-//Allegheny Chapter - ECPv6.15.20//NONSGML v1.0//EN
CALSCALE:GREGORIAN
METHOD:PUBLISH
X-WR-CALNAME:Allegheny Chapter
X-ORIGINAL-URL:https://alleghenybmwcca.org
X-WR-CALDESC:Events for Allegheny Chapter
REFRESH-INTERVAL;VALUE=DURATION:PT1H
X-Robots-Tag:noindex
X-PUBLISHED-TTL:PT1H
BEGIN:VTIMEZONE
TZID:America/New_York
BEGIN:DAYLIGHT
TZOFFSETFROM:-0500
TZOFFSETTO:-0400
TZNAME:EDT
DTSTART:20250309T070000
END:DAYLIGHT
BEGIN:STANDARD
TZOFFSETFROM:-0400
TZOFFSETTO:-0500
TZNAME:EST
DTSTART:20251102T060000
END:STANDARD
BEGIN:DAYLIGHT
TZOFFSETFROM:-0500
TZOFFSETTO:-0400
TZNAME:EDT
DTSTART:20260308T070000
END:DAYLIGHT
BEGIN:STANDARD
TZOFFSETFROM:-0400
TZOFFSETTO:-0500
TZNAME:EST
DTSTART:20261101T060000
END:STANDARD
BEGIN:DAYLIGHT
TZOFFSETFROM:-0500
TZOFFSETTO:-0400
TZNAME:EDT
DTSTART:20270314T070000
END:DAYLIGHT
BEGIN:STANDARD
TZOFFSETFROM:-0400
TZOFFSETTO:-0500
TZNAME:EST
DTSTART:20271107T060000
END:STANDARD
END:VTIMEZONE
BEGIN:VEVENT
DTSTART;TZID=America/New_York:20260613T090000
DTEND;TZID=America/New_York:20260613T140000
DTSTAMP:20260424T171522
CREATED:20260423T151917Z
LAST-MODIFIED:20260423T151917Z
UID:8056-1781341200-1781359200@alleghenybmwcca.org
SUMMARY:Allegheny Chapter Spring Drive
DESCRIPTION:Join us on Saturday\, June 13th\, for our spring drive which will be a “Southern Tour.” We will start in Canonsburg\, PA\, and will take scenic back-roads down to Cheat Lake\, WV\, for lunch. More information and a registration link will follow.
URL:https://alleghenybmwcca.org/event/allegheny-chapter-spring-drive/
LOCATION:PA
CATEGORIES:Touring Events
END:VEVENT
END:VCALENDAR