BEGIN:VCALENDAR
VERSION:2.0
PRODID:-//Allegheny Chapter - ECPv6.15.20//NONSGML v1.0//EN
CALSCALE:GREGORIAN
METHOD:PUBLISH
X-WR-CALNAME:Allegheny Chapter
X-ORIGINAL-URL:https://alleghenybmwcca.org
X-WR-CALDESC:Events for Allegheny Chapter
REFRESH-INTERVAL;VALUE=DURATION:PT1H
X-Robots-Tag:noindex
X-PUBLISHED-TTL:PT1H
BEGIN:VTIMEZONE
TZID:America/New_York
BEGIN:DAYLIGHT
TZOFFSETFROM:-0500
TZOFFSETTO:-0400
TZNAME:EDT
DTSTART:20190310T070000
END:DAYLIGHT
BEGIN:STANDARD
TZOFFSETFROM:-0400
TZOFFSETTO:-0500
TZNAME:EST
DTSTART:20191103T060000
END:STANDARD
BEGIN:DAYLIGHT
TZOFFSETFROM:-0500
TZOFFSETTO:-0400
TZNAME:EDT
DTSTART:20200308T070000
END:DAYLIGHT
BEGIN:STANDARD
TZOFFSETFROM:-0400
TZOFFSETTO:-0500
TZNAME:EST
DTSTART:20201101T060000
END:STANDARD
BEGIN:DAYLIGHT
TZOFFSETFROM:-0500
TZOFFSETTO:-0400
TZNAME:EDT
DTSTART:20210314T070000
END:DAYLIGHT
BEGIN:STANDARD
TZOFFSETFROM:-0400
TZOFFSETTO:-0500
TZNAME:EST
DTSTART:20211107T060000
END:STANDARD
BEGIN:DAYLIGHT
TZOFFSETFROM:-0500
TZOFFSETTO:-0400
TZNAME:EDT
DTSTART:20220313T070000
END:DAYLIGHT
BEGIN:STANDARD
TZOFFSETFROM:-0400
TZOFFSETTO:-0500
TZNAME:EST
DTSTART:20221106T060000
END:STANDARD
BEGIN:DAYLIGHT
TZOFFSETFROM:-0500
TZOFFSETTO:-0400
TZNAME:EDT
DTSTART:20230312T070000
END:DAYLIGHT
BEGIN:STANDARD
TZOFFSETFROM:-0400
TZOFFSETTO:-0500
TZNAME:EST
DTSTART:20231105T060000
END:STANDARD
BEGIN:DAYLIGHT
TZOFFSETFROM:-0500
TZOFFSETTO:-0400
TZNAME:EDT
DTSTART:20240310T070000
END:DAYLIGHT
BEGIN:STANDARD
TZOFFSETFROM:-0400
TZOFFSETTO:-0500
TZNAME:EST
DTSTART:20241103T060000
END:STANDARD
BEGIN:DAYLIGHT
TZOFFSETFROM:-0500
TZOFFSETTO:-0400
TZNAME:EDT
DTSTART:20250309T070000
END:DAYLIGHT
BEGIN:STANDARD
TZOFFSETFROM:-0400
TZOFFSETTO:-0500
TZNAME:EST
DTSTART:20251102T060000
END:STANDARD
BEGIN:DAYLIGHT
TZOFFSETFROM:-0500
TZOFFSETTO:-0400
TZNAME:EDT
DTSTART:20260308T070000
END:DAYLIGHT
BEGIN:STANDARD
TZOFFSETFROM:-0400
TZOFFSETTO:-0500
TZNAME:EST
DTSTART:20261101T060000
END:STANDARD
END:VTIMEZONE
BEGIN:VEVENT
DTSTART;TZID=America/New_York:20251016T180000
DTEND;TZID=America/New_York:20251016T210000
DTSTAMP:20260424T164219
CREATED:20250731T010849Z
LAST-MODIFIED:20250731T010849Z
UID:7994-1760637600-1760648400@alleghenybmwcca.org
SUMMARY:Chapter Meeting Hosted by A&L BMW
DESCRIPTION:Join us on Thursday\, October 16th for a chapter business meeting kindly hosted by A&L BMW in Monroeville\, PA.. More details and registration link to follow.
URL:https://alleghenybmwcca.org/event/chapter-meeting-hosted-by-al-bmw/
LOCATION:A&L BMW\, 3780 William Penn Highway\, Monroeville\, PA\, 15146\, United States
CATEGORIES:Business Meetings
END:VEVENT
BEGIN:VEVENT
DTSTART;TZID=America/New_York:20250319T180000
DTEND;TZID=America/New_York:20250319T210000
DTSTAMP:20260424T164219
CREATED:20250222T144605Z
LAST-MODIFIED:20250222T144605Z
UID:7921-1742407200-1742418000@alleghenybmwcca.org
SUMMARY:2025 Annual Meeting
DESCRIPTION:2025 Allegheny Chapter Annual Meeting\nJoin the Allegheny Chapter on Wednesday\, March 19th at 6:00 pm for our Annual Chapter Meeting at Roland’s Seafood Grill in Pittsburgh’s Strip District: https://www.rolandspittsburgh.com \nPlan to join us at 6pm for a social hour and cash bar along with the opportunity to meet and socialize with the Chapter board of directors and fellow members. The Chapter will provide snacks and appetizers. The Annual Meeting will begin at 7pm and will cover the following subjects: 2025 calendar of events\, Chapter financials\, PVGP\, TRSS\, HPDE\, Touring Events\, etc. \nRoland’s Seafood Grill (we will be in a private room\, turn right and head to the rear of the bar)\n1904 Penn Avenue (Pittsburgh Strip District)\nPittsburgh\, PA 15222 \nParking is available on-street or at a (paid) surface lot across the street from the restaurant. \nWe are looking forward to seeing you!
URL:https://alleghenybmwcca.org/event/2025-annual-meeting/
LOCATION:Roland’s Seafood Grill\, 1904 Penn Ave\, Pittsburgh\, PA\, 15222\, United States
CATEGORIES:Business Meetings,Social Gathering
END:VEVENT
BEGIN:VEVENT
DTSTART;TZID=America/New_York:20230216T180000
DTEND;TZID=America/New_York:20230216T210000
DTSTAMP:20260424T164219
CREATED:20200128T033731Z
LAST-MODIFIED:20230202T002551Z
UID:7598-1676570400-1676581200@alleghenybmwcca.org
SUMMARY:2023 Annual Meeting
DESCRIPTION:2023 Allegheny Chapter Annual Meeting\nJoin the Allegheny Chapter on Thursday\, Feb. 16th at 6:00 pm for our Annual Chapter Meeting at the Teutonia Männerchor on the North Side of Pittsburgh: http://www.pghmannerchor.com \nPlan to join us at 6pm for a social hour and cash bar along with the opportunity to bid farewell to the outgoing Board members\, and to meet & greet your 2023 Board of Directors. The Chapter Meeting will begin at 7pm and will cover the following subjects: 2023 calendar of events\, Chapter financials\, PVGP\, TRSS\, HPDE\, Touring Events\, etc. \nTeutonia Maennerchor – Rathskeller (lower level)\n857 Phineas Street (Northside/Deutschtown)\nPittsburgh\, PA 15212 \nParking is available in the hotel parking lot next to the Teutonia Biergarten. You can also park in the lower gravel lots or on the adjacent street (no permit restrictions).\nFood service (from menu) available 5:00 pm – 8:00 pm \nWe are looking forward to seeing you!
URL:https://alleghenybmwcca.org/event/2023-annual-meeting/
LOCATION:Teutonia Männerchor\, 857 Phineas St\, Pittsburgh\, PA\, 15212\, United States
CATEGORIES:Business Meetings
ATTACH;FMTTYPE=image/png:https://alleghenybmwcca.org/wp-content/uploads/2019/01/bmw_motorsport_reveals_dtm_team_large_40671.png
END:VEVENT
BEGIN:VEVENT
DTSTART;TZID=America/New_York:20230111T000000
DTEND;TZID=America/New_York:20230111T235959
DTSTAMP:20260424T164219
CREATED:20220802T040050Z
LAST-MODIFIED:20230110T203417Z
UID:7280-1673395200-1673481599@alleghenybmwcca.org
SUMMARY:Business Meeting
DESCRIPTION:Join us for a Business Meeting on January 11\, 2023 \nLocation: Max’s Allegheny Tavern on the North Side\, Pittsburgh\, PA \nSocial Hour: 6pm-7pm \nBusiness Meeting: 7pm-8pm
URL:https://alleghenybmwcca.org/event/business-meeting-jan11/
LOCATION:Max’s Allegheny Tavern\, 537 Suismon Street\, Pittsburgh\, PA\, 15237\, United States
CATEGORIES:Business Meetings
END:VEVENT
BEGIN:VEVENT
DTSTART;TZID=America/New_York:20221018T180000
DTEND;TZID=America/New_York:20221018T203000
DTSTAMP:20260424T164219
CREATED:20220802T040050Z
LAST-MODIFIED:20221014T192913Z
UID:7611-1666116000-1666125000@alleghenybmwcca.org
SUMMARY:Business Meeting
DESCRIPTION:Join us for a Business Meeting on October 20\, 2022 \nLocation: Teutonia Maennerchor Club\, Northside Pittsburgh\, PA \nSocial Hour: 6pm-7pm \nBusiness Meeting: 7pm
URL:https://alleghenybmwcca.org/event/business-meeting-oct-20/
LOCATION:Teutonia Männerchor\, 857 Phineas St\, Pittsburgh\, PA\, 15212\, United States
CATEGORIES:Business Meetings
END:VEVENT
BEGIN:VEVENT
DTSTART;TZID=America/New_York:20220428T173000
DTEND;TZID=America/New_York:20220428T200000
DTSTAMP:20260424T164219
CREATED:20220409T025442Z
LAST-MODIFIED:20220409T030608Z
UID:7526-1651167000-1651176000@alleghenybmwcca.org
SUMMARY:April Club Meeting and Social
DESCRIPTION:We are excited to announce our April meeting will be held at the German Club of Pittsburgh. The club was built in 1888 and has been the home of a chorus called the “Teutonia Männerchor.” Go to http://www.pghmannerchor.com/ for more information on the club. We have been trying to visit this historic site for years and with help of our new Social Director\, Béla Pater we are finally able to visit. \nJoin the Allegheny Chapter on Thursday April 28\, 2022 at the Teutonia Maennerchor (German club\, Northside) located at 857 Phineas Street\, Pittsburgh\, PA 15212. \n5:30 pm – Social \n6:00 pm – Dinner from menu – at your own cost \n7:00 pm – Brief Business Meeting followed by social \nWe will meet downstairs in the RATHSKELLER.  If the weather is nice following dinner\, we can move our social to the outdoor newly renovated Biergarten. \nAllegheny Chapter signage will be posted to assist you with where to enter the building. \nClick here to register!
URL:https://alleghenybmwcca.org/event/april-business-meeting/
LOCATION:German Club of Pittsburgh\, 857 Phineas Street\, Pittsburgh\, PA\, 15212\, United States
CATEGORIES:Business Meetings
ATTACH;FMTTYPE=image/jpeg:https://alleghenybmwcca.org/wp-content/uploads/2020/01/louis-hansel-WCm4dFvZnMM-unsplash-scaled.jpg
END:VEVENT
BEGIN:VEVENT
DTSTART;TZID=America/New_York:20220217T180000
DTEND;TZID=America/New_York:20220217T200000
DTSTAMP:20260424T164219
CREATED:20200128T033731Z
LAST-MODIFIED:20211213T040819Z
UID:7408-1645120800-1645128000@alleghenybmwcca.org
SUMMARY:2022 Annual Meeting
DESCRIPTION:Join the Allegheny Chapter on Thursday Feb. 17 at 6:00 pm for our Annual Chapter Meeting at the Roland’s Seafood Grill (https://www.rolandspittsburgh.com/)– The Chapter is hosting a social hour with Hors d’ouevers and cash bar for members to meet your 2022 Board of Directors and mingle with one another. Afterward you can have dinner and learn about the chapter’s plans for the upcoming year. \nRegistration is free at msreg.com/annualmeet 
URL:https://alleghenybmwcca.org/event/2022-annual-meeting/
LOCATION:Roland’s Seafood Grill\, 1904 Penn Ave\, Pittsburgh\, PA\, 15222\, United States
CATEGORIES:Business Meetings
ATTACH;FMTTYPE=image/png:https://alleghenybmwcca.org/wp-content/uploads/2019/01/bmw_motorsport_reveals_dtm_team_large_40671.png
END:VEVENT
BEGIN:VEVENT
DTSTART;TZID=America/New_York:20200618T180000
DTEND;TZID=America/New_York:20200618T213000
DTSTAMP:20260424T164219
CREATED:20200125T032343Z
LAST-MODIFIED:20200527T130145Z
UID:6737-1592503200-1592515800@alleghenybmwcca.org
SUMMARY:Frick Park Tavern Meeting - CANCELLED
DESCRIPTION:Join your BMW CCA Allegheny Chapter at the Frick Park Tavern!\nREGISTRATION COMING SOON \nThis event is an Allegheny Chapter business meeting. \nWhen:\nThursday\, June 18th \nTime:\n6PM Start with 7PM Dinner \nWhere:\nFrick Park Tavern \n1100 South Braddock Avenue \nPittsburgh\, PA 15218 \n412-871-3440\nAbout the Frick Park Tavern: \nThe Frick Park Tavern is a brand new restaurant in Regent Square\, featuring a fantastic selection of food\, wine\, and beer. \nYou can check out their website here. \nCost:\nTBA \nRSVP:\nCOMING SOON
URL:https://alleghenybmwcca.org/event/frick-park-tavern-meeting/
LOCATION:Frick Park Tavern\, 1100 South Braddock Avenue\, Pittsburgh\, PA\, 15218\, United States
CATEGORIES:Business Meetings
ATTACH;FMTTYPE=image/png:https://alleghenybmwcca.org/wp-content/uploads/2020/01/Screen-Shot-2020-01-24-at-10.23.17-PM.png
ORGANIZER;CN="Jeff Taylor":MAILTO:bmw.event.coordinator@gmail.com
END:VEVENT
BEGIN:VEVENT
DTSTART;TZID=America/New_York:20200416T180000
DTEND;TZID=America/New_York:20200416T213000
DTSTAMP:20260424T164219
CREATED:20200125T030914Z
LAST-MODIFIED:20200321T022330Z
UID:6732-1587060000-1587072600@alleghenybmwcca.org
SUMMARY:Maxes Old Allegheny Tavern Meeting CANCELLED
DESCRIPTION:Join your BMW CCA Allegheny Chapter at Maxes Allegheny Tavern!\nTHIS EVENT HAS BEEN CANCELLED DUE TO COVID-19 \nThis event is an Allegheny Chapter business meeting. \nWhen:\nThursday\, April 16th \nTime:\n6PM Start with 7PM Dinner \nWhere:\nMaxes Old Allegheny Tavern \n537 Suismon Street \nPittsburgh\, PA 15212 \n412-231-1899 \nAbout Maxes Old Allegheny Tavern: \n“Stepping into Max’s Allegheny Tavern is a bit like stepping back in time. Or maybe it’s more like stepping into your grandmother’s house – if your grandmother was German\, that is. \nThis homey restaurant serves up comforting\, traditional German food and beer. When it comes down to that\, could you ask for anything more?” \n(A quote from discovertheburgh.com)  \nCost:\nTBA \nRSVP:\nTHIS EVENT HAS BEEN CANCELLED DUE TO COVID-19
URL:https://alleghenybmwcca.org/event/maxes-old-allegheny-tavern-meeting/
LOCATION:Max’s Allegheny Tavern\, 537 Suismon Street\, Pittsburgh\, PA\, 15237\, United States
CATEGORIES:Business Meetings
ATTACH;FMTTYPE=image/jpeg:https://alleghenybmwcca.org/wp-content/uploads/2020/01/kuhne-tafelesig-162927-scaled.jpg
ORGANIZER;CN="Jeff Taylor":MAILTO:bmw.event.coordinator@gmail.com
END:VEVENT
END:VCALENDAR